Workbook

Sheet 评分表
A1: 广东省有害生物防制服务机构服务能力审核自查评分表
A2: 参评企业： | D2: 自评时间： | E2: 年 月 日
A3: 项目 | B3: 评分说明：必备条件采取一票否决，其余各项评分采用100分制，60-70分基本合格，70-80分一般，80-90分良好，90-100分优秀。80分以下需填写扣分说明。汇总表根据评分自动生成，需一并打印提交。 | E3: 分值 | F3: 扣分说明
A4: 一、场所与设施 | B4: A级 | C4: B级 | D4: C级
A5: 1.1 | B5: 1.1、具有公司营业执照、税务登记证、组织机构代码证（必备条件）。 | C5: 1.1、具有公司营业执照、税务登记证、组织机构代码证（必备条件）。 | D5: 1.1、具有公司营业执照、税务登记证、组织机构代码证（必备条件）。
A6: 1.2 | B6: 1.2、有固定的工作场所，面积不小于200m2（必备条件）。 | C6: 1.2、有固定的工作场所，面积不小于120m2（必备条件）。 | D6: 1.1、有固定的工作场所，面积不小于80m2（必备条件）。
B7: a）有办公室、会议室、配药室、更衣室等工作场所。 | C7: a）有办公室、配药室等工作场所。 | D7: a）有办公室、配药室等工作场所。
B8: b）办公室有电脑、打印机、传真机等设施； | C8: b）办公室有电脑、打印机、传真机等设施； | D8: b）办公室有电脑、打印机、传真机等设施；
B9: c）配药室有操作台和必要的配药器具。 | C9: c）配药室有操作台和必要的配药器具。 | D9: c）配药室有操作台和必要的配药器具。
B10: d）建有公司宣传网站或网页。 | C10: d）建有公司宣传网站或网页。
A11: 1.3 | B11: 1.3、有独立的药械库房，面积不小于120m2（必备条件）。 鼠药和监测工具与杀虫剂分室存放；药库有防火、防盗、防水、通风等安全设备；有货架，药物离墙离地放置；药械分类摆放整齐、有序。（必备条件） | C11: 1.3、有独立的药械库房，面积不小于80m2（必备条件）。 鼠药和监测工具与杀虫剂分室存放；药库有照明、防火、防盗、通风等安全设备；有货架，药物离墙离地放置；药械分类摆放整齐、有序。（必备条件） | D11: 1.3、有独立的药械库房，面积不小于40m2（必备条件）。鼠药和监测工具与杀虫剂分室存放；药库有照明、防火、防盗、通风等安全设备；有货架，药物离墙离地放置；药械分类摆放整齐、有序。
A12: 二、药品与器械 | B12: A级 | C12: B级 | D12: C级
A13: 2.1 | B13: 2.1、有适合不同场所和环境使用的灭鼠药、杀虫剂及物理防制器械和蚊、蝇、鼠、蟑监测工具。其中，灭鼠药不少于3种剂型，杀虫剂不少于8种剂型，物理防制器械不少于4类，监测工具4类齐全。 | C13: 2.1、有适合不同场所和环境使用的灭鼠药、杀虫剂与物理防制器械。其中，灭鼠药不少于2种剂型，杀虫剂不少于6种剂型，物理控制器械不少于4类。 | D13: 2.1、有适合不同场所和环境使用的灭鼠药、杀虫剂及物理防制器械和蚊、蝇、鼠、蟑密度监测工具。其中，灭鼠药不少于2种剂型，杀虫剂不少于4种剂型，物理防制器械不少于2类，监测工具不少于2类。
A14: 2.2 | B14: 2.2、药品应使用具有国家农药登记证、生产许可证、产品标准号等证件齐备的合格产品；有效期药品有明确的管理制度，不得使用过期的杀虫剂和杀鼠剂（必备条件）。 | C14: 2.2、药品应使用具有国家农药登记证、生产许可证、产品标准号等证件齐备的合格产品；有效期药品有明确的管理制度，不得使用过期的杀虫剂和杀鼠剂（必备条件）。 | D14: 2.2、药品应使用具有国家农药登记证、生产许可证、产品标准号等证件齐备的合格产品，有效期药品有明确的管理制度，不得使用过期的杀虫剂和杀鼠剂（必备条件）。
A15: 2.3 | B15: 2.3、不购买及使用国家禁用的药品和假冒劣质药物；（必备条件）在防制服务中不使用私自混配的药剂；有规范、完整的药品进出记录，保持药品台账与药品相符。 | C15: 2.3、不购买及使用国家禁用的药品和假冒劣质药物（必备条件）；在防制服务中不使用私自混配的药剂；有规范、完整的药品进出记录，保持药品台账与药品相符。 | D15: 2.3、不购买及使用国家禁用的药品和假冒劣质药物（必备条件）；在防制服务中不使用私自混配的药剂；有规范、完整的药品进出记录，保持药品台账与药品相符。
A16: 2.4 | B16: 2.4、配备的防制器械能满足不同环境和特殊场所的服务要求。完整可用的手持或背负式压缩喷雾器不少于10台、电动超低容量喷雾器不少于5台、机动超低容量喷雾器不少于5台、热烟雾机不少于3台、手推式大功率机动喷雾机不少于2台、车载超低容量喷雾机1台。 | C16: 2.4、配备的防制器械能满足不同环境和特殊场所的服务要求。完好可用的手持或背负式压缩喷雾器不少于6台、机动超低容量喷雾器不少于2台、电动超低容量喷雾器不少于2台、热烟雾机不少于2台等。 | D16: 2.4、配备的防制器械能满足不同环境和特殊场所的服务要求。完好可用的手持或背负式压缩喷雾器不少于4台、机动超低容量喷雾器2台、电动超低容量喷雾机1台，热烟雾机1台等。
A17: 2.5 | B17: 2.5、定期对防制器械进行适当维护、保养，有维护、保养记录，确保处于完好可用状态。 | C17: 2.5、定期对防制器械进行适当维护、保养，有维护保养记录，确保处于完好可用状态。 | D17: 2.5、定期对防制器械进行适当维护、保养，确保处于完好可用状态。
A18: 2.6 | B18: 2.6、配有蚊、蝇、鼠、蟑等密度监测器具。 | C18: 2.6、配有蚊、蝇、鼠、蟑等密度监测器具。 | D18: 2.6、配有蚊、蝇、鼠、蟑等密度监测器具。
A19: 2.7 | B19: 2.7、服务用机动车的数量应适应工作需要，至少配备5辆防制服务用车（提供购置发票）。 | C19: 2.7、服务用机动车的数量应适应工作需要，至少配备3辆防制服务用车（提供车辆购置证明）。 | D19: 2.7、服务用机动车的数量应适应工作需要，至少配有1辆防制服务用车。
A20: 2.8 | B20: 2.8、防制员能配有不同季节、不同场所的工作服、帽、鞋，有专用防护服、防护口罩、防护眼镜、防护手套等个人防护用品。 | C20: 2.8、防制员能配有不同季节的工作服、帽、鞋，有专用防护服、防护口罩、防护眼镜、防护手套等个人防护用品。 | D20: 2.8、防制员能配有不同季节的工作服、帽、鞋，有专用防护服、防护口罩、防护眼镜、防护手套等个人防护用品。
A21: 三、防制人员 | B21: A级 | C21: B级 | D21: C级
A22: 3.1 | B22: 3.1管理人员不少于5人，其中至少3人具有大专以上学历（必备条件）。 管理人员中至少1人定期接受外部信息、档案管理业务培训并取得培训结业合格证。 | C22: 3.1、管理人员不少于3人，其中至少2人具有大专以上学历（必备条件）。 管理人员中至少1人定期接受外部信息、档案管理业务培训并取得培训结业合格证。 | D22: 3.1、管理人员不少于2人，其中至少1人具有大专以上学历（必备条件）。 管理人员中至少1人定期接受外部信息、档案管理业务培训并取得培训结业合格证。
A23: 3.2 | B23: 3.2、防制员不少于25人且取得有害生物防制员职业资格证书或省协会有害生物防制员培训结业合格证。其中防制员至少3人取得高级（或农业、林业、医学等专业职称中级以上），6人取得中级，16人取得初级合格证书。 | C23: 3.2、防制员不少于17人且取得有害生物防制员职业资格证书或省协会有害生物防制员培训结业合格证。其中防制员至少1人取得高级，3人取得中级，13人取得初级合格证书。 | D23: 3.2、防制员不少于8人且取得有害生物防制员职业资格证书或省协会有害生物防制员培训结业合格证。其中防制员至少2人取得中级，6人取得初级合格证书。
A24: 3.3 | B24: 3.3、防制技术人员和防制员均应通过职业体检取得健康合格证明。 | C24: 3.3、防制技术人员和防制员均应通过职业体检取得健康合格证明。 | D24: 3.3、防制技术人员和防制员均应通过职业体检取得健康合格证明。
A25: 3.4 | B25: 3.4、全体防制员接受专业机构组织的继续教育学习每年不少于16学时，有培训证据；公司内部组织员工专业知识和操作技能的学习培训每月不少于4学时，学习培训情况应有完整记录。 | C25: 3.4、全体防制员接受专业机构组织的继续教育学习每年不少于12学时，有培训证据；公司内部组织员工专业知识和操作技能的学习培训每月不少于4学时，学习培训情况应有完整记录。 | D25: 3.4、全体防制员接受专业机构组织的继续教育学习每年不少于8学时，有培训证据；公司内部组织员工专业知识和操作技能培训每月不少于2学时，培训情况应有完整记录。
A26: 3.5 | B26: 5.防制员必须是在职三个月以上职工，与公司签订劳动合同并购买职工社保（提供公司统一购买的社保证明）。 | C26: 5.防制员必须是在职三个月以上职工，与公司签订劳动合同并购买职工社保（提供公司统一购买的社保证明）。 | D26: 5.防制员必须是在职三个月以上职工，与公司签订劳动合同并购买职工社保（提供公司统一购买的社保证明）。
A27: 四、组织管理 | B27: A级 | C27: B级 | D27: C级
A28: 4.1 | B28: 4.1、公司组织机构健全，设有人力资源、财务、质量控制、药品采购、库房管理、信息资料管理等相对独立的部门和相应管理人员。 | C28: 4.1、公司组织机构健全，设有人力资源、财务、质量控制、药品采购、库房管理、信息资料管理等相对独立的部门和相应管理人员。 | D28: 4.1、设有负责人力资源、财务、质量控制、药品采购、库房管理、信息资料等管理人员。
A29: 4.2 | B29: 4.2、各项管理规章制度健全，有关要求明确具体，内部管理基本制度至少有： a） 公司员工守则 b） 岗位责任制度 c） 学习培训制度 d） 劳动防护制度 e） 药械库房管理制度 f） 财务管理制度 g） 信息化、网络化管理制度 | C29: 4.2、各项管理规章制度健全，有关要求明确具体，内部管理基本制度至少有： a） 公司员工守则 b） 岗位责任制度 c） 学习培训制度 d） 劳动防护制度 e） 药、械库房管理制度 f） 财务管理制度 g） 信息化管理制度 | D29: 4.2、各项管理规章制度健全，有关要求明确具体，内部管理基本制度至少有： a） 公司员工守则 b） 岗位责任制度 c） 学习培训制度 d） 劳动防护制度 e） 药械库房管理制度 f）财务管理制度
A30: 4.3 | B30: 4.3、按国家有关标准或规定，制定有害生物防制服务的各项操作规范和技术要求，包括： a）蚊蝇鼠蟑等各类害虫不同场所的防制方案； b）有害生物防制服务操作流程； c）所用器械使用指南和使用注意事项； d）蚊蝇鼠蟑各类害虫密度监测方法； e）服务场所防制效果评估方法； f）预防杀虫、灭鼠药剂污染环境处理措施。 g）杀虫剂、灭鼠剂稀释、配制操作规范。 | C30: 4.3、按国家有关标准或规定，制定有害生物防制服务的各项操作规范和技术要求，包括： a）蚊蝇鼠蟑等各类害虫不同场所的防制方案； b）有害生物防制服务操作流程； c）所用器械使用指南和使用注意事项； d）蚊蝇鼠蟑各类害虫密度监测方法； e）服务场所防制效果评估方法； f）预防杀虫、灭鼠药剂污染环境处理措施。 g）杀虫剂、灭鼠剂稀释操作规范。 | D30: 4.3、按国家有关标准或规定，制定有害生物防制服务的各项操作规范和技术要求，包括： a）蚊蝇鼠蟑等各类害虫不同场所的防制方案； b）有害生物防制服务操作流程； c）所用器械使用指南和使用注意事项； d）蚊蝇鼠蟑各类害虫密度监测方法； e）服务场所防制效果评估方法； f）预防杀虫、灭鼠药剂污染环境处理措施。 g）杀虫剂、灭鼠剂稀释操作规范。
A31: 4.4 | B31: 4.4、有完善的服务质量保证制度，包括： a）有明确的公司服务质量信誉； b）设置质量监督员，由技术员或取得PCO高级职业资格的防制员担任； c）建立服务质量责任制，完善质控措施，包含质量监督检查内容、频率、记录和跟踪整改等要求。 d）具备质量控制与监督的信息化、网络化管理手段。 | C31: 4.4、有完善的服务质量保证制度，包括： a）有明确的公司服务质量要求； b）设置质量监督员，由技术员或取得PCO高级职业资格的防制员担任； c）建立服务质量责任制，完善质控措施，包含质量监督检查内容、频率、记录和跟踪整改等要求。 | D31: 4.4、有完善的服务质量保证制度，包括： a）有明确的公司服务质量要求； b）设置质量监督员，由技术员或取得PCO中级职业资格的防制员担任； c）建立服务质量责任制，完善质量控制措施，包含质量监督检查内容、频率、记录和跟踪整改等要求。
A32: 五、防制能力 | B32: A级 | C32: B级 | D32: C级
A33: 5.1 | B33: 5.1、从事有关部门许可或认定的有害生物防制服务3年以上（必备条件）。 | C33: 5.1、从事有关部门许可或认定的有害生物防制服务2年以上（必备条件）。 | D33: 5.1、从事有关部门许可或认定的有害生物防制服务1年以上（必备条件）。
A34: 5.2 | B34: 5.2、能够承接并按国家标准完成蚊、蝇、鼠、蟑螂等4类有害生物的防制服务。 | C34: 5.2、能够承接并按国家标准完成蚊、蝇、鼠、蟑螂等4类有害生物的防制服务。 | D34: 5.2、能够承接并按国家标准完成蚊、蝇、鼠、蟑螂等4类或以上有害生物的防制服务。
A35: 5.3 | B35: 5.3、具备从事三星级以上（含三星级）宾馆（饭店）、高档写字楼、大中型餐饮店、食品加工厂、医院、学校、商场、娱乐场所等8类不同场所与环境的有害生物防制服务的能力。 | C35: 5.3、具备从事二星级以上（含二星级）宾馆（饭店）、写字楼、大中型餐饮店、食品加工厂、医院、学校、商场、娱乐场所等8类不同场所与环境的有害生物防制服务的能力。 | D35: 5.3、随机抽查3名防制员进行有害生物防制基本知识考核与提问回答，并全部合格。
A36: 5.4 | B36: 5.4、近两年有害生物防制服务营业额每年不少于500万元人民币（必备条件）。 | C36: 5.4、近两年有害生物防制服务营业额不少于300万元人民币（必备条件）。 | D36: 5.4、近两年有害生物防制服务营业额不少于100万元人民币（必备条件）。
A37: 5.5 | B37: 5.5、随机抽查6名防制员进行有害生物防制基本知识考核与提问问答，并能全部合格。 | C37: 5.5、随机抽查4名防制员进行有害生物防制基本知识考核与提问问答，并全部合格。 | D37: 5.5、至少2名防制员进行药物稀释操作，掌握稀释注意事项并能够按照产品说明书正确地稀释药物。
A38: 5.6 | B38: 5.6、至少4名防制员进行器械的发动操作，掌握使用注意事项并正确地实施喷烟或喷雾 | C38: 5.6、至少3名防制员进行器械的发动操作，掌握使用注意事项并正确地实施喷烟或喷雾 | D38: 5.6、至少2名防制员进行器械的发动操作，掌握使用注意事项并正确地实施喷烟或喷雾， 抽查1名技术员进行有害生物防制理论知识和防制质量监督管理的现场考核全部合格。
A39: 5.7 | B39: 5.7、至少4名防制员进行药物稀释操作，掌握稀释注意事项并能够按照产品说明书正确地稀释药物。 | C39: 5.7、至少3名防制员进行药物稀释操作，掌握稀释注意事项并能够按照产品说明书正确地稀释药物。 | D39: 5.7、至少1名技术员进行有害生物防制理论知识现场问答，了解与防制有关的病媒生物生态特征；掌握不同场所病媒生物的防制方法，掌握不同药剂和器械的应用场所及使用注意事项。
A40: 5.8 | B40: 5.8、至少抽查3名技术员进行有害生物防制理论知识和防制质量监督管理的现场考核全部合格。 | C40: 5.8、至少抽查2名技术员进行有害生物防制理论知识和防制质量监督管理的现场考核全部合格。
A41: 5.9 | B41: 5.9、至少3名技术员进行有害生物防制理论知识现场问答，了解与防治有关的病媒生物生态特征；掌握不同场所病媒生物的防治方法，掌握不同药剂和器械的应用场所及使用注意事项。 | C41: 5.9、至少2名技术员进行有害生物防制理论知识现场问答，了解与防治有关的病媒生物生态特征；掌握不同场所病媒生物的防治方法，掌握不同药剂和器械的应用场所及使用注意事项。
A42: 六、服务质量 | B42: A级 | C42: B级 | D42: C级
A43: 6.1 | B43: 6.1、防制员服务时能持证上岗，着装整齐，仪表端庄；服务中能主动向客户沟通有关防制配合事项，对客户提出的有关技术问题能正确耐心解答。 | C43: 6.1、防制员服务时能持证上岗，着装整齐，仪表端庄；服务中能主动向客户沟通有关防制配合事项，对客户提出的有关技术问题能正确耐心解答。 | D43: 6.1、防制员服务时能持证上岗，着装整齐，仪表端庄；服务中能主动向客户沟通有关防制配合事项，对客户提出的有关技术问题能正确耐心解答。
A44: 6.2 | B44: 6.2、防制服务三个月以上的项目，能依照《中华人民共和国合同法》等相关法规与客户签订服务合同，明确双方责任和义务。 | C44: 6.2、防制服务三个月以上的项目，能依照《中华人民共和国合同法》等相关法规与客户签订服务合同，明确双方责任和义务。 | D44: 6.2、防制服务三个月以上的项目，能依照《中华人民共和国合同法》等相关法规与客户签订服务合同，明确双方责任和义务。
A45: 6.3 | B45: 6.3、防制过程中，防制员能严格按制定的防制技术方案和操作规程进行防制，有规范完整的服务作业记录，内容包括：防制虫种、防制场所、防制方法、所用药物及器械、使用浓度与剂量、施药面积及客户意见等。灭鼠毒饵站等设施有编号、有警示标识（必备条件）。 | C45: 6.3、防制过程中，防制员能严格按制定的防制技术方案和操作规程进行防制，有规范完整的服务作业记录，内容包括：防制虫种、防制场所、防制方法、所用药物及器械、使用浓度与剂量、施药面积及客户意见等。灭鼠毒饵站等设施有编号、有警示标识（必备条件）。 | D45: 6.3、防制过程中，防制员能严格按制定的防制技术方案和操作规程进行防制，有规范完整的服务作业记录，内容包括：防制虫种、防制场所、防制方法、所用药物及器械、使用浓度与剂量、施药面积及客户意见等。灭鼠毒饵站等设施有编号、有警示标识。
A46: 6.4 | B46: 6.4、实施防制后，能定期对服务场所的虫情密度进行监测，具有规范正确的虫情密度监测记录表。对重点场所可利用现代化信息系统进行监测。 | C46: 6.4、实施防制后，能定期对服务场所的虫情密度进行监测，具有规范正确的虫情密度监测记录表。 | D46: 6.4、实施防制后，能定期对服务场所的虫情密度进行监测，具有规范正确的虫情密度监测记录表。
A47: 6.5 | B47: 6.5、服务质量保证措施运行良好，质量监督员能认真实施质控制度，有定期的质量控制检查记录，质量控制发现的问题在防制作业中有对应的整改记录。 | C47: 6.5、服务质量保证措施落实良好，质量监督员能认真实施质控制度，有定期的质量控制检查记录，质量控制发现的问题在防制作业中有对应的整改记录。 | D47: 6.5、服务质量保证措施落实良好，质量监督员能认真实施质控制度，有定期的质量控制检查记录，质量控制发现的问题在防制作业中有对应的整改记录。
A48: 6.6 | B48: 6.6、每年至少有一次防制效果的评价报告提交客户（或根据客户需求）。每年有一次对大客户的沟通与培训。 | C48: 6.6、每年至少有一次防制效果的评价报告提交客户（或根据客户需求）。每年有一次对大客户的沟通与培训。 | D48: 6.6、每年至少有一次防制效果的评价报告提交客户（或根据客户需求）。
A49: 6.7 | B49: 6.7、有半年一次客户对防制效果、服务质量和服务态度的满意度征询调查记录，满意率能达到90%以上（必备条件）。 | C49: 6.7、有半年一次客户对防制效果、服务质量和服务态度的满意度征询调查记录，满意率能达到85%以上（必备条件）。 | D49: 6.77、有半年一次客户对防制效果、服务质量和服务态度的满意度征询调查记录，满意率能达到80%以上（必备条件）。
A50: 6.8 | B50: 6.8、设有固定的24小时服务热线电话，对来电的咨询或投诉能认真解答和记录，对投诉能在24小时内进行调查核实，予以答复，并提出处理意见。在48小时内，对调查核实的问题予以整改解决。 | C50: 6.8、设有固定的24小时服务热线电话，对来电的咨询或投诉能认真解答和记录，对投诉能在24小时内进行调查核实，予以答复，并提出处理意见。在48小时内，对调查核实的问题予以整改解决。 | D50: 6.8、设有固定的24小时服务热线电话，对来电的咨询或投诉能认真解答和记录，对投诉能在48小时内进行调查核实，予以答复，并提出处理意见。在72小时内，对调查核实的问题予以整改解决。
A51: 6.9 | B51: 6.9、近2年无防制服务重大责任事故（必备条件）。 | C51: 6.9、近2年无防制服务重大责任事故（必备条件）。 | D51: 6.9、近2年无防制服务重大责任事故（必备条件）。
A52: 6.1 | B52: 6.10、所有被服务单位和场所的虫害密度能达到国家规定的标准。抽查不同类型客户单位6个，现场检查防制服务技术规范和虫情控制效果都能达到防制合同和防制技术方案规定的要求。 | C52: 6.10、所有被服务单位和场所的虫害密度能达到国家规定的标准。抽查不同类型客户单位5个或以上，现场检查防制服务技术规范和虫情控制效果都能达到防制合同和防制技术方案规定的要求。 | D52: 6.10、所有被服务单位和场所的虫害密度能达到国家规定的标准。抽查不同类型客户单位4个，现场检查防制服务技术规范和虫情控制效果都能达到防制合同和防制技术方案规定的要求。
A53: 6.11 | B53: 6.11、能热心参与社会公益性有害生物防制活动，防制服务质量和信誉能赢得客户认可；不以压低价格等不正当手段参与市场竞争；公司网站有有害生物控制知识宣传栏目，有关公司形象对外宣传能客观、真实。诚信评价优良。 | C53: 6.11、能热心参与社会公益性有害生物防制活动，防制服务质量和信誉能赢得客户认可，不以压低价格等不正当手段参与市场竞争；公司网站有有害生物控制知识宣传栏目，有关公司形象对外宣传能客观、真实。诚信评价良好。 | D53: 6.11、能热心参与社会公益性有害生物防制活动，防制服务质量和信誉能赢得客户认可；不以压低价格等不正当手段参与市场竞争；有关公司形象对外宣传能客观、真实。诚信评价良好。

Sheet 汇总表（自动生成）
A1: 广东省有害生物防制服务机构服务能力审核自查评分汇总表
A2: 参评企业： | B2: =评分表!B2 -> 0
A3: 项目 | B3: 权重 | C3: 自评 实得分 | D3: 扣分说明
A4: 一.场所与设施 | B4: 10 | C4: =SUM(C5:C11) -> 0
A5: 1.1 | B5: 必备条件 | C5: =评分表!E5 -> 0 | D5: =评分表!F5 -> 0
A6: 1.2 | B6: 必备条件 | C6: =评分表!E6 -> 0 | D6: =评分表!F6 -> 0
B7: 3 | C7: =评分表!E7/100*B7 -> 0 | D7: =评分表!F7 -> 0
B8: 2 | C8: =评分表!E8/100*B8 -> 0 | D8: =评分表!F8 -> 0
B9: 3 | C9: =评分表!E9/100*B9 -> 0 | D9: =评分表!F9 -> 0
B10: 2 | C10: =评分表!E10/100*B10 -> 0 | D10: =评分表!F10 -> 0
A11: 1.3 | B11: 必备条件 | C11: =评分表!E11 -> 0 | D11: =评分表!F11 -> 0
A12: 二.药品与器械 | B12: 20 | C12: =SUM(C13:C20) -> 0
A13: 2.1 | B13: 5 | C13: =评分表!E13/100*B13 -> 0 | D13: =评分表!F13 -> 0
A14: 2.2 | B14: 必备条件 | C14: =评分表!E14 -> 0 | D14: =评分表!F14 -> 0
A15: 2.3 | B15: 必备条件 | C15: =评分表!E15 -> 0 | D15: =评分表!F15 -> 0
A16: 2.4 | B16: 5 | C16: =评分表!E16/100*B16 -> 0 | D16: =评分表!F16 -> 0
A17: 2.5 | B17: 3 | C17: =评分表!E17/100*B17 -> 0 | D17: =评分表!F17 -> 0
A18: 2.6 | B18: 2 | C18: =评分表!E18/100*B18 -> 0 | D18: =评分表!F18 -> 0
A19: 2.7 | B19: 2 | C19: =评分表!E19/100*B19 -> 0 | D19: =评分表!F19 -> 0
A20: 2.8 | B20: 3 | C20: =评分表!E20/100*B20 -> 0 | D20: =评分表!F20 -> 0
A21: 三.防制人员 | B21: 15 | C21: =SUM(C22:C26) -> 0
A22: 3.1 | B22: 必备条件 | C22: =评分表!E22 -> 0 | D22: =评分表!F22 -> 0
A23: 3.2 | B23: 5 | C23: =评分表!E23/100*B23 -> 0 | D23: =评分表!F23 -> 0
A24: 3.3 | B24: 2 | C24: =评分表!E24/100*B24 -> 0 | D24: =评分表!F24 -> 0
A25: 3.4 | B25: 4 | C25: =评分表!E25/100*B25 -> 0 | D25: =评分表!F25 -> 0
A26: 3.5 | B26: 4 | C26: =评分表!E26/100*B26 -> 0 | D26: =评分表!F26 -> 0
A27: 四.组织管理 | B27: 20 | C27: =SUM(C28:C31) -> 0
A28: 4.1 | B28: 3 | C28: =评分表!E28/100*B28 -> 0 | D28: =评分表!F28 -> 0
A29: 4.2 | B29: 3 | C29: =评分表!E29/100*B29 -> 0 | D29: =评分表!F29 -> 0
A30: 4.3 | B30: 10 | C30: =评分表!E30/100*B30 -> 0 | D30: =评分表!F30 -> 0
A31: 4.4 | B31: 4 | C31: =评分表!E31/100*B31 -> 0 | D31: =评分表!F31 -> 0
A32: 五.防制能力 | B32: 20 | C32: =SUM(C33:C41) -> 0
A33: 5.1 | B33: 必备条件 | C33: =评分表!E33 -> 0 | D33: =评分表!F33 -> 0
A34: 5.2 | B34: 2 | C34: =评分表!E34/100*B34 -> 0 | D34: =评分表!F34 -> 0
A35: 5.3 | B35: 3 | C35: =评分表!E35/100*B35 -> 0 | D35: =评分表!F35 -> 0
A36: 5.4 | B36: 必备条件 | C36: =评分表!E36 -> 0 | D36: =评分表!F36 -> 0
A37: 5.5 | B37: 3 | C37: =评分表!E37/100*B37 -> 0 | D37: =评分表!F37 -> 0
A38: 5.6 | B38: 3 | C38: =评分表!E38/100*B38 -> 0 | D38: =评分表!F38 -> 0
A39: 5.7 | B39: 3 | C39: =评分表!E39/100*B39 -> 0 | D39: =评分表!F39 -> 0
A40: 5.8 | B40: 2 | C40: =评分表!E40/100*B40 -> 0 | D40: =评分表!F40 -> 0
A41: 5.9 | B41: 4 | C41: =评分表!E41/100*B41 -> 0 | D41: =评分表!F41 -> 0
A42: 六.服务质量 | B42: 15 | C42: =SUM(C43:C53) -> 0
A43: 6.1 | B43: 1 | C43: =评分表!E43/100*B43 -> 0 | D43: =评分表!F43 -> 0
A44: 6.2 | B44: 1 | C44: =评分表!E44/100*B44 -> 0 | D44: =评分表!F44 -> 0
A45: 6.3 | B45: 必备条件 | C45: =评分表!E45 -> 0 | D45: =评分表!F45 -> 0
A46: 6.4 | B46: 1 | C46: =评分表!E46/100*B46 -> 0 | D46: =评分表!F46 -> 0
A47: 6.5 | B47: 2 | C47: =评分表!E47/100*B47 -> 0 | D47: =评分表!F47 -> 0
A48: 6.6 | B48: 2 | C48: =评分表!E48/100*B48 -> 0 | D48: =评分表!F48 -> 0
A49: 6.7 | B49: 必备条件 | C49: =评分表!E49 -> 0 | D49: =评分表!F49 -> 0
A50: 6.8 | B50: 1 | C50: =评分表!E50/100*B50 -> 0 | D50: =评分表!F50 -> 0
A51: 6.9 | B51: 必备条件 | C51: =评分表!E51 -> 0 | D51: =评分表!F51 -> 0
A52: 6.1 | B52: 5 | C52: =评分表!E52/100*B52 -> 0 | D52: =评分表!F52 -> 0
A53: 6.11 | B53: 2 | C53: =评分表!E53/100*B53 -> 0 | D53: =评分表!F53 -> 0
A54: 总体分 | C54: =C4+C12+C21+C27+C32+C42 -> 0
